BEGIN:VCALENDAR
VERSION:2.0
PRODID:-//Tukios.com/
BEGIN:VEVENT
UID:b425cb6e-dc26-4d77-a074-926bbd9c9563@www.guerryforbesfuneralhome.com
DTSTAMP:20260422T220726Z
DTSTART:20260427T150000Z
DTEND:20260427T160000Z
SUMMARY:Visitation
DESCRIPTION:
URL:https://www.guerryforbesfuneralhome.com/obituaries/frances-king
LOCATION:Guerry Forbes Funeral Home 420 E Macclenny Ave  Macclenny FL 
	32063
GEO:30.2828951;-82.1167375
END:VEVENT
END:VCALENDAR