BEGIN:VCALENDAR
VERSION:2.0
PRODID:-//Tukios.com/
BEGIN:VEVENT
UID:b0fde7ec-a540-4b40-99ad-29c825de1448@www.guerryforbesfuneralhome.com
DTSTAMP:20260422T220650Z
DTSTART:20260427T160000Z
DTEND:20260427T170000Z
SUMMARY:Funeral Service
DESCRIPTION:
URL:https://www.guerryforbesfuneralhome.com/obituaries/frances-king
LOCATION:Guerry Forbes Funeral Home 420 E Macclenny Ave  Macclenny FL 
	32063
GEO:30.2828951;-82.1167375
END:VEVENT
END:VCALENDAR