BEGIN:VCALENDAR
VERSION:2.0
PRODID:-//Tukios.com/
BEGIN:VEVENT
UID:7d4e9e5c-86eb-451c-9913-477c6faad3d7@www.guerryforbesfuneralhome.com
DTSTAMP:20260422T193808Z
DTSTART:20260424T150000Z
DTEND:20260424T160000Z
SUMMARY:Celebration of Life
DESCRIPTION:
URL:https://www.guerryforbesfuneralhome.com/obituaries/pauline-worrel
LOCATION:Manntown Congregational Holiness Church 8087 County Road 125  
	Glen Saint Mary FL 32040
GEO:30.248064;-82.1660943
END:VEVENT
END:VCALENDAR