BEGIN:VCALENDAR
VERSION:2.0
PRODID:-//Tukios.com/
BEGIN:VEVENT
UID:2bccb514-e356-4681-9d42-b2a5d35cc78d@www.guerryforbesfuneralhome.com
DTSTAMP:20260422T193941Z
DTSTART:20260424T140000Z
DTEND:20260424T150000Z
SUMMARY:Visitation
DESCRIPTION:
URL:https://www.guerryforbesfuneralhome.com/obituaries/pauline-worrel
LOCATION: 8087 County Road 125  Glen Saint Mary FL 32040
GEO:30.248064;-82.1660943
END:VEVENT
END:VCALENDAR